BEGIN:VCALENDAR
VERSION:2.0
CALSCALE:GREGORIAN
PRODID:-//MyApp//Calendar 1.0//EN
BEGIN:VEVENT
METHOD:PUBLISH
UID:65722@regionalniportaly.cz
DTSTAMP:20260421T132041Z
DTSTART;VALUE=DATE:20260506
DTEND;VALUE=DATE:20260913
SUMMARY:Spektákl: Zábavní plakát 1890–1938
DESCRIPTION:Zlatá éra zábavy na přelomu 19. a 20. století  na více jak stovce vystavených plakátech ukazuje plakát jako působivé médium\, které formovalo moderní vizuální komunikaci i podobu volného času.\nMasivní rozvoj organizované zábavy\, probíhající od konce 19. století\, úzce souvisel s rozvojem moderní společnosti velkoměst\, která nabízela nejrůznější formy zábavy a podívaných – od kabaretů\, karnevalů\, nočních podniků až po iluzionistické show a sportovní události. Zásadní roli v tomto procesu sehrál obrazový plakát\, jehož zlatá éra na přelomu 19. a 20. století položila základy moderní vizuální komunikace. Plakáty se samy staly spektáklem – efektním reklamním médiem\, jež formovalo vnímání zábavy\, cestování a trávení volného času. Výstava představuje více než sto plakátů z období před druhou světovou válkou\, vytvořených jak nejvýznamnějšími českými a zahraničními osobnostmi oboru\, mezi nimiž nechybí Jules Chéret\, Alfons Mucha\, Luděk Marold\, Karel Šimůnek\, Arnošt Hofbauer\, František Kysela\, Vilém Rotter\, Emil Weiss\, Leo Heilbrun\, František Zelenka či Ladislav Sutnar\, tak i anonymními autory.\nExpozice ukazuje plakáty nejen jako artefakty grafického designu\, ale také jako historický pramen\, vypovídající o historii a reáliích institucionální zábavy\, jejích místech i populárních protagonistech.\nVystavena jsou díla z nejvýznamnějších veřejných i soukromých sbírek plakátu\, zastoupen je především fond Uměleckoprůmyslového musea v Praze a dále fondy Západočeského muzea v Plzni\, Severočeského muzea v Liberci a privátních sbírek H - posters collection a sbírky plakátu Daniela Trávníčka.\nVýstava byla připravena ve spolupráci s Uměleckoprůmyslovým museem v Praze.
LOCATION:Plzeň
END:VEVENT
END:VCALENDAR