BEGIN:VCALENDAR
VERSION:2.0
CALSCALE:GREGORIAN
PRODID:-//MyApp//Calendar 1.0//EN
BEGIN:VEVENT
METHOD:PUBLISH
UID:65599@regionalniportaly.cz
DTSTAMP:20260421T091317Z
DTSTART;VALUE=DATE:20260618
DTEND;VALUE=DATE:20260619
SUMMARY:Thin Ice | Valara | Čokl | Pobodá
DESCRIPTION:Hardcore večer\, který ti rozbije hlavu i parket. Připrav se na kombinaci syrové energie\, rychlosti a nekompromisního zvuku – do Anděla míří silná zahraniční i domácí sestava.THIN ICE (Schweinfurt)Moderní hardcore s tvrdým drivem a masivní energií.VALARA&nbsp\;(Freiburg)Rychlost\, agrese a čistý HC feeling.Čokl (Praha)Hardcore punk s vlastní identitou a tlakem.POBODA (Plzeň)Domácí punková jízda\, která tě nenechá stát.&nbsp\;
LOCATION:Plzeň
END:VEVENT
END:VCALENDAR