BEGIN:VCALENDAR
VERSION:2.0
CALSCALE:GREGORIAN
PRODID:-//MyApp//Calendar 1.0//EN
BEGIN:VEVENT
METHOD:PUBLISH
UID:64053@regionalniportaly.cz
DTSTAMP:20260424T080919Z
DTSTART;VALUE=DATE:20260403
DTEND;VALUE=DATE:20260404
SUMMARY:Skotační Kulomet | Hello Marcel
DESCRIPTION:SKOTAČNÍ KULOMETPlzeňská kapela osmičlenného uskupení hrající autorský repertoár. Minulý rokkapela vydala několik EP i dlouhohrající desku\, v prosinci 2025 vydali druhé LP. Hrají primárně R&amp\;B a jazzrock\, ale nebojí se zabrousit do funku či swingu. Jejichvystoupení jsou energická a uspokojující jak hudebně\, tak vizuálně. O kapele bylopsáno i v článcích časopisu Headliner s názvy “50 nadějí české hudby” a „SkotačníKulomet má pořádnou kadenci. Seznamte se s plzeňáky\, kteří vás ustřelí“. Kapelamá za sebou vystoupení na Rock For People. V únoru roku 2026 uspořádali&nbsp\;vplzeňském DEPO2015 koncert v doprovodu symfonického orchestru.&nbsp\;HELLO MARCELEnergie\, tanec\, disco\, basy a do toho všeho české texty s nadsázkou. Tak to jsou Hello Marcel\, svitavské duo tvořené Michaelem Mackem a Adamem Sodomkou\, kteří od roku 2018 experimentují s různými podobami elektronické hudby a budují vlastní svět disco-surrealismu. Jedinečný zážitek vás čeká na parketu během koncertu i při poslechu jejich studiových alb. Jejich tvůrčí éter dnes zahrnuje tři studiová alba\, několik EP a singlů a s nejnovější deskou „Nejtvrdší Tvrďák“ vyrážejí na koncertní pódia napříč zemí.
LOCATION:Plzeň
END:VEVENT
END:VCALENDAR