BEGIN:VCALENDAR
VERSION:2.0
CALSCALE:GREGORIAN
PRODID:-//MyApp//Calendar 1.0//EN
BEGIN:VEVENT
METHOD:PUBLISH
UID:63862@regionalniportaly.cz
DTSTAMP:20260419T153520Z
DTSTART;VALUE=DATE:20261011
DTEND;VALUE=DATE:20261012
SUMMARY:Slavné muzikály a filmová hudba
DESCRIPTION:Přijďte si vychutnat do krásného prostředí funkcionalistické Betlémské kaple (vytápěno) &nbsp\;nový zajímavý program plný písní ze světových muzikálů doprovázený filmovou hudbou:.MUSICA FESTIVABronislava Smržová – soprán\, Šárka Trávníčková – housle\,&nbsp\;&nbsp\;&nbsp\;&nbsp\;&nbsp\;&nbsp\;&nbsp\;&nbsp\;&nbsp\;&nbsp\;&nbsp\;&nbsp\;&nbsp\;&nbsp\;&nbsp\;&nbsp\;&nbsp\;&nbsp\;&nbsp\;&nbsp\;&nbsp\;&nbsp\;&nbsp\;&nbsp\;&nbsp\;Gabriela Plachá – hoboj\, Petr Štěpán - kytara&nbsp\;&nbsp\;&nbsp\;&nbsp\;&nbsp\;&nbsp\;&nbsp\;&nbsp\;&nbsp\;&nbsp\;&nbsp\;&nbsp\;&nbsp\;&nbsp\;&nbsp\;&nbsp\;&nbsp\;&nbsp\;&nbsp\;&nbsp\;&nbsp\;&nbsp\;&nbsp\;&nbsp\;&nbsp\;&nbsp\;&nbsp\;&nbsp\;&nbsp\;&nbsp\;&nbsp\;&nbsp\;&nbsp\;&nbsp\;&nbsp\;&nbsp\;&nbsp\;&nbsp\;&nbsp\;&nbsp\;&nbsp\;&nbsp\;&nbsp\;PROGRAM:CATS - A. L. WEBBER: MemoryFANTOM OPERY - A. L. WEBBER: Think of meWEST SIDE STORY - L. BERNSTEIN: I feel prettySNÍDANĚ U TIFFANIHO -&nbsp\; H. MANCINI: Moon RiverMY FAIR LADY - F. LOEWE:&nbsp\;Chci jen někde svůj plácek mítPORGY A BESS - G. GERSHWIN: Summer Time&nbsp\;&nbsp\;&nbsp\;&nbsp\;&nbsp\;&nbsp\;&nbsp\;WEST SIDE STORY - L. BERNSTEIN: TonightJESUS CHRIST SUPERSTAR&nbsp\;- A. L. WEBBER: I don´t know how to love him&nbsp\;&nbsp\;&nbsp\;&nbsp\;&nbsp\;&nbsp\;&nbsp\;MISE - E. MORRICONE: Gabriel´s OboeJAMES BOND - M. NORMAN: James Bond ThemeMAMMA MIA - B. ANDERSON: I do\, I do\, I doFORREST GUMP - A. SILVESTRIKMOTR - N. ROTA: The Godfather themeLÁSKA NEBESKÁ - L. ARMSTRONG: Portuguese love themeJAMES BOND - Adele: SkyfallRŮŽOVÝ PANTER - H. MANCINI: Pink PantherPEARL HARBOUR - H. ZIMMER: TennesseeDélka asi 65 minut
LOCATION:Plzeň
END:VEVENT
END:VCALENDAR