BEGIN:VCALENDAR
VERSION:2.0
CALSCALE:GREGORIAN
PRODID:-//MyApp//Calendar 1.0//EN
BEGIN:VEVENT
METHOD:PUBLISH
UID:63669@regionalniportaly.cz
DTSTAMP:20260424T151717Z
DTSTART;VALUE=DATE:20260317
DTEND;VALUE=DATE:20260318
SUMMARY:Bezejmenná kapela & End of Screem
DESCRIPTION:Večer kombinující funk a instrumentální progresivní metal.250\,- v předprodeji\, (student 210 Kč)&nbsp\;300\,- na místěAkce je od 19:00\, Těšíme se na vás!
LOCATION:Plzeň
END:VEVENT
END:VCALENDAR