BEGIN:VCALENDAR
VERSION:2.0
CALSCALE:GREGORIAN
PRODID:-//MyApp//Calendar 1.0//EN
BEGIN:VEVENT
METHOD:PUBLISH
UID:63588@regionalniportaly.cz
DTSTAMP:20260419T121804Z
DTSTART;VALUE=DATE:20260423
DTEND;VALUE=DATE:20260424
SUMMARY:Treska Jednoskvrnná & Skotační kulomet
DESCRIPTION:Treska Jednoskvrnná&nbsp\;bude křtít své debutové album “schovaný v trávě”. S novým albem přichází i částečně nový zvuk. Tíha k punku\, saturaci a upřímné distorzi se opírá o české lyrics a občasnou melancholii\, bezmoc. Chuť se schovat a zároveň se slunit prochází celým momentálním působením skupiny.&nbsp\;Deska vznikla za poslední rok a půl v @goldenhivestudio\, ale také různě po Česku na chatách od Bozejn po Šternberk nebo také na Tripy tour.&nbsp\;Na začátku tohoto roku vydala kapela videoklip k písni Zimní slunce\, která je součástí alba.Pětičlenná kapela v roce 2021 vydala své první EP Pink Štafls\, které jsou stále součástí stage presence.SKOTAČNÍ KULOMET Plzeňská kapela osmičlenného uskupení hrající autorský repertoár. Minulý rok kapela vydala několik EP i dlouhohrající desku\, v&nbsp\;prosinci 2025 vydali druhé LP. Hrají primárně R&amp\;B a jazzrock\, ale nebojí se zabrousit do funku či swingu. Jejich vystoupení jsou energická a uspokojující jak hudebně\, tak vizuálně. O kapele bylo psáno i v článcích časopisu Headliner s názvy “50 nadějí české hudby” a „Skotační Kulomet má pořádnou kadenci. Seznamte se s&nbsp\;plzeňáky\, kteří vás ustřelí“. Kapela má za sebou vystoupení na Rock For People. V únoru roku 2026 uspořádají v plzeňském DEPO2015&nbsp\; koncert v doprovodu symfonického orchestru.&nbsp\;ČLENOVÉ:Mikoláš Plass - kytara\, zpěv&nbsp\;&nbsp\; &nbsp\;&nbsp\;&nbsp\; &nbsp\;Vít Nováček - klávesy&nbsp\;&nbsp\; &nbsp\;&nbsp\;&nbsp\; &nbsp\;Sebastián Kuhn - trubkaJaroslav Beneš - saxofón&nbsp\;&nbsp\; &nbsp\;&nbsp\;&nbsp\; &nbsp\;Matěj Šolc - bicí&nbsp\;&nbsp\; &nbsp\;&nbsp\;&nbsp\; &nbsp\;Pavel Tíkal - baskytaraVojta Šindelář - perkuse&nbsp\;&nbsp\; &nbsp\;&nbsp\;&nbsp\; &nbsp\;Alexandra Korbelová - trubka&nbsp\;
LOCATION:Plzeň
END:VEVENT
END:VCALENDAR