BEGIN:VCALENDAR
VERSION:2.0
CALSCALE:GREGORIAN
PRODID:-//MyApp//Calendar 1.0//EN
BEGIN:VEVENT
METHOD:PUBLISH
UID:63459@regionalniportaly.cz
DTSTAMP:20260421T111508Z
DTSTART;VALUE=DATE:20260511
DTEND;VALUE=DATE:20260512
SUMMARY:Dáša Zázvůrková - Věřím v brzské lepší příští Tour
DESCRIPTION:Autorská hudba Dáši Zázvůrkové.V pořadí třetí a zatím nejosobnější album\, na kterém Dáša Zázvůrková poprvé vypráví o lásce\, se jmenuje Věřím v brzké lepší příští. Pilotním singlem je píseň I Am Woman\, pojednávající o síle i ženskosti.„I Am Woman je píseň\, která pro mě znamená přerod ve všem. Skvělý&nbsp\;text přímo na tělo mi napsala Martina Preissová a já pak odjela s ukulele skoro na měsíc pryč a složila k tomu hudbu. Tenhle song má zvláštní poselství\, že i přes to\, co člověk prožil&nbsp\;- ztrátu\, smutek\, obrovskou prázdnotu\, hledání sebe sama i smyslu\, co bude dál - se nikdy nesmí vzdát. Je v tom síla\, ženskost a jasný směr. Je to vzkaz\, že i když má život někdy tmavé&nbsp\;barvy\, vždycky se objeví paprsek\, který se nakonec prodere ven a začne svítit. Jen si to člověk musí umět přát\,”&nbsp\;popisuje Dáša.Album Věřím v brzké lepší příští obsahuje 8 písní a má kontinuální příběh. Každá píseň vypráví o jiné životní etapě\, s jiným koloritem a s jinými zkušenostmi\, ale stále je v hlavní roli láska.„Moje druhá autorská deska Mirákl 9 byly písně věnované&nbsp\;různým lidem počínaje ženami či parašutisty až po veslaře. Album Věřím v brzké&nbsp\;lepší příští věnuji mému Muži. Každý&nbsp\;si léčí svojí duši jiným způsobem\, já písničkami. Je to tak\, že přišel&nbsp\;čas\, kdy se vypisuji z okamžiků\, které&nbsp\;jsem díky naší lásce prožila\,”&nbsp\;vypráví Dáša.Když zpěvačce pokládali otázku „A co dělá váš muž?”\, vtipně odpovídala „Můj muž je hvězdář a taky trochu diriguje.” Svého partnera touto větou tenkrát rozesmála i potěšila.„Liborek byl velkorysý\, se smyslem pro humor a na ničem nelpěl. I to nás spojovalo a i proto jsem si takovou větu mohla dovolit. Byl sice světoznámý&nbsp\;dirigent\, ale duší byl hvězdář\, kosmolog a buddhista. Proto jsem si vybrala křest na místě\, kde si budeme nejblíž - ve Štefánikově hvězdárně. Pozvala jsem naše nejbližší přátele a budu tak mít alespoň pocit jeho blízkosti\,”&nbsp\;vysvětluje Dáša.Věřím v brzké lepší příští\, stejně jako i předchozí Mirákl 9\, zpěvačka tvořila s renomovaným producentem a muzikantem&nbsp\;Honzou Horáčkem.&nbsp\;Jejich spolupráci Dáša vnímá jako hudební souznění s velkým progresem ve zvuku\, aranžmá i feelingu písní.„Naše spolupráce je hodně o nás dvou\, o porozumění\, o tom\, aby píseň žila tak\, jak si zaslouží. Zatím jsme nepoznali střety našich já a myslím\, že v našem případě ani nepoznáme. Když přijde Honza s nějakým nápadem nebo novou myšlenkou\, snažím se naslouchat a posloužit písničce\, aby byla co nejlepší. Moje já jde zkrátka stranou. A to mi je na naší spolupráci sympatické\,”&nbsp\;pochvaluje si Dáša vznik alba\, které vychází v limitovaném počtu a poprvé i na vinylu.&nbsp\;VystupujícíDáša Zázvůrková (CZ) –&nbsp\;web&nbsp\;/&nbsp\;fb&nbsp\;/&nbsp\;insta&nbsp\;/&nbsp\;youtube&nbsp\;/&nbsp\;Spotify
LOCATION:Plzeň
END:VEVENT
END:VCALENDAR