BEGIN:VCALENDAR
VERSION:2.0
CALSCALE:GREGORIAN
PRODID:-//MyApp//Calendar 1.0//EN
BEGIN:VEVENT
METHOD:PUBLISH
UID:63435@regionalniportaly.cz
DTSTAMP:20260424T162815Z
DTSTART;VALUE=DATE:20260319
DTEND;VALUE=DATE:20260321
SUMMARY:Festival světla a umění BLIK BLK
DESCRIPTION:Plzeň se v březnu opět promění v otevřenou galerii. Festival světla a umění ve veřejném prostoru BLIK BLIK se uskuteční již po jedenácté a vůbec poprvé přináší program rozprostřený do tří večerů\, od 19. do 21. března. Návštěvníky čeká tři a půl kilometru dlouhá trasa mezi Roudnou a areálem DEPO2015 se 17 světelnými instalacemi\, z nichž šest bude interiérových a přístupných na jednu společnou vstupenku.\nTématem letošního ročníku je SYMBIÓZA – vztah člověka\, města a přírody. Festival zve k zamyšlení nad křehkou rovnováhou mezi světlem a tmou\, městským komfortem a přirozeným prostředím\, lidskou aktivitou a životem ostatních druhů.\nFestivalová trasa\, která po tři dny propojí oblast mezi Roudnou a areálem DEPO2015\, bude mít dvě hlavní centra. Náměstí Republiky se promění v obří světelný sochařský park s ocelovými plastikami Čestmíra Sušky\, zatímco vnitroblok plzeňské radnice připraví emotivní imerzivní zážitek založený na projekcích a práci se světlem. Druhé centrum vznikne v areálu DEPO2015\, kde návštěvníky přivítá monumentální interaktivní instalace FLUX v Autobusové hale\, škola videomappingu na nově opravené fasádě DEPO2015 i tematický videomapping vytvořený na míru ZOO Plzeň\, která v roce 2026 slaví 100 let od svého založení.
LOCATION:Plzeň
END:VEVENT
END:VCALENDAR