BEGIN:VCALENDAR
VERSION:2.0
CALSCALE:GREGORIAN
PRODID:-//MyApp//Calendar 1.0//EN
BEGIN:VEVENT
METHOD:PUBLISH
UID:63381@regionalniportaly.cz
DTSTAMP:20260421T085428Z
DTSTART;VALUE=DATE:20261210
DTEND;VALUE=DATE:20261211
SUMMARY:Terapie rodinou / Léčivé divadlo Gabriely Filippi
DESCRIPTION:TERAPIE RODINOU&nbsp\;Rodinná komedie o tom\, jak umí být život krásný a tragikomickýSituační komedie o jedné “normální” rodině – rodině herce\, terapeutky a jejich dospělé dceři\, která si domů přivede svou novou lásku. Je to jako leštit vázu\, když hoří v kuchyni. S velkou dávkou humoru a sebeironie vám rodina svěří své malé radosti\, velká trápení\, ale i ta nejskrytější tajemství…Hrají:Gabriela FilippiMário KubecSofie Karochová FilippiEttore GallottiS velkou dávkou humoru a sebeironie vám rodina svěří své malé radosti\, velká trápení i nejskrytější tajemství okořeněné spirituálním pohledem na život. O výchově\, o soužití po 25 letech života\, o sexualitě a také spiritualitě .V představení plném písní\, manter\, tance\, flamenca\, humoru\, ale i cenných rad do života uvidíte Gabrielu Filippi\, Mária Kubce\, Sofii K. Filippi a Ettora Gallotti.​Po zhlédnutí představení Terapie rodinou zjistíte\, že ta vaše rodina je zcela v pořádku.
LOCATION:Plzeň
END:VEVENT
END:VCALENDAR