BEGIN:VCALENDAR
VERSION:2.0
CALSCALE:GREGORIAN
PRODID:-//MyApp//Calendar 1.0//EN
BEGIN:VEVENT
METHOD:PUBLISH
UID:63132@regionalniportaly.cz
DTSTAMP:20260424T110345Z
DTSTART;VALUE=DATE:20260314
DTEND;VALUE=DATE:20260315
SUMMARY:V3SKA & Definitivní Ententýk
DESCRIPTION:Devíti členná hudební skupina\, která pochází ze Stoda u Plzně\, vznikla v roce 2002 a hraje převážně styl SKA doplněný prvky reggae a punku. V roce 2007 kapela vydala své první album „UŽ BYLO NAČASE“\, které následovalo v listopadu 2010 CD s názvem „CIRKUS V3SKA“ a v září 2014 třetí album „MODERNÍ DĚS“. Nejnovějším počinem je EP "15"\, které vyšlo v létě 2018 k příležitosti 15 let existence souboru. Svojí hudbou chce v prvé řadě bavit\, a proto jsou její koncerty nabity energií a mají bezprostřední atmosféru.&nbsp\;&nbsp\;Definitivní Ententýk je sedmičlenná&nbsp\;ska úderka\, která se se svými nástroji mazlí už nějakou tu dobu. Svou pozitivní energií nabitou hudbu začali pilovat v roce 1994 v útrobách litvínovského gymnázia a od té doby prošli nejen personálními\, ale i žánrovými proměnami.
LOCATION:Plzeň
END:VEVENT
END:VCALENDAR