BEGIN:VCALENDAR
VERSION:2.0
CALSCALE:GREGORIAN
PRODID:-//MyApp//Calendar 1.0//EN
BEGIN:VEVENT
METHOD:PUBLISH
UID:63030@regionalniportaly.cz
DTSTAMP:20260425T011858Z
DTSTART;VALUE=DATE:20260328
DTEND;VALUE=DATE:20260329
SUMMARY:Bratři Karamazovi + Space Detour
DESCRIPTION:Space Detour&nbsp\;Kapela Space Detour vznikla v roce 2018 . Přichází jako oživení alternativní scény a nebojí se experimentovat s art rockem. Hraje ve složení : Tomáš Mezera bicí\, Eduard Hájek piano a varhany \, Jakub Vančura kytara\, Jiří Hondejs Janda zpěv \, Petr Hájek basa\, Pavel Prechtl foukačka a trumpeta. Poslední album The lonelies man on the universe produkované Petrem Ostrouchovem se setkalo velmi kladnými ohlasy. Nyní ve spolupráci s Milanem Cimfem připravuje kapela album další \, které vyjde začátkem roku 2026.&nbsp\;Bratři Karamazovi&nbsp\;Kapela Bratři Karamazovi vznikla v roce 1993\, je založená na undergroundovém stylu\, vyniká texty skladatele a básníka Pavla „Kúči“ Kučery.Obsazení:Petr Kučera - klávesy (Oceán\, Shalom)Petr Turek - kytaraDan Hubáček - bicí (Fellows\, Led Zeppelin southern revival\, Pach Dobrodružství)Olda Sýkora - basa (Artefakt)Tereza Kudová Klorová - zpěv (Pach Dobrodružství\, Zputnik\, občasný host u Pražský Výběr)
LOCATION:Plzeň
END:VEVENT
END:VCALENDAR