BEGIN:VCALENDAR
VERSION:2.0
CALSCALE:GREGORIAN
PRODID:-//MyApp//Calendar 1.0//EN
BEGIN:VEVENT
METHOD:PUBLISH
UID:62961@regionalniportaly.cz
DTSTAMP:20260425T023443Z
DTSTART;VALUE=DATE:20260313
DTEND;VALUE=DATE:20260314
SUMMARY:POPs # Best Of 80s & 90s
DESCRIPTION:Koncert hudební skupiny POPs s největšími hity zahraničního popu 80 a 90 let.Uslyšíte písně Michaela Jacksona\, Phila Collinse\, George Michaela\, Depeche Mode\, Backstreet Boys a mnoha dalších z&nbsp\;éry 80s &amp\; 90s. Nenechte si ujít tento jedinečný koncert plný skvělé hudby\, energie a zábavy.Program:Opendoor: 20:00POPs: 21:00Afterparty: 23:30
LOCATION:Plzeň
END:VEVENT
END:VCALENDAR