BEGIN:VCALENDAR
VERSION:2.0
CALSCALE:GREGORIAN
PRODID:-//MyApp//Calendar 1.0//EN
BEGIN:VEVENT
METHOD:PUBLISH
UID:62932@regionalniportaly.cz
DTSTAMP:20260424T164708Z
DTSTART;VALUE=DATE:20260320
DTEND;VALUE=DATE:20260321
SUMMARY:koncert LÁSKA
DESCRIPTION:Láska – kytarista\, zpěvák a autor s příběhem!Za letošní rok stihl vydat už&nbsp\;tři singly a videoklipy\, z nichž tennejnovější –&nbsp\;„Dva z jiný planety“&nbsp\;– úspěšně rotuje na&nbsp\;ČRo Radiožurnálu\,rádiu Impuls\,&nbsp\;Óčko TV&nbsp\;a&nbsp\;dalších stanicích. V listopadu ho navíc čeká&nbsp\;turné slegendární Petrou Janů\, pro kterou napsal i společnou píseň.&nbsp\;O Láskovětvorbě napsali mimo jiné třeba&nbsp\;CNN Prima News&nbsp\;a&nbsp\;Frekvence 1..&nbsp\;
LOCATION:Plzeň
END:VEVENT
END:VCALENDAR