BEGIN:VCALENDAR
VERSION:2.0
CALSCALE:GREGORIAN
PRODID:-//MyApp//Calendar 1.0//EN
BEGIN:VEVENT
METHOD:PUBLISH
UID:62792@regionalniportaly.cz
DTSTAMP:20260421T112627Z
DTSTART;VALUE=DATE:20260608
DTEND;VALUE=DATE:20260609
SUMMARY:TROS DISCOTEQUOS v Plzeňském Prazdroji
DESCRIPTION:
LOCATION:Plzeň
END:VEVENT
END:VCALENDAR