BEGIN:VCALENDAR
VERSION:2.0
CALSCALE:GREGORIAN
PRODID:-//MyApp//Calendar 1.0//EN
BEGIN:VEVENT
METHOD:PUBLISH
UID:62786@regionalniportaly.cz
DTSTAMP:20260419T140950Z
DTSTART;VALUE=DATE:20260506
DTEND;VALUE=DATE:20260507
SUMMARY:Michal Horák: Cestou k Fóru u Zacha
DESCRIPTION:
LOCATION:Plzeň
END:VEVENT
END:VCALENDAR