BEGIN:VCALENDAR
VERSION:2.0
CALSCALE:GREGORIAN
PRODID:-//MyApp//Calendar 1.0//EN
BEGIN:VEVENT
METHOD:PUBLISH
UID:62775@regionalniportaly.cz
DTSTAMP:20260424T211804Z
DTSTART;VALUE=DATE:20260219
DTEND;VALUE=DATE:20260220
SUMMARY:Rozálie - koncert
DESCRIPTION:
LOCATION:Plzeň
END:VEVENT
END:VCALENDAR