BEGIN:VCALENDAR
VERSION:2.0
CALSCALE:GREGORIAN
PRODID:-//MyApp//Calendar 1.0//EN
BEGIN:VEVENT
METHOD:PUBLISH
UID:62774@regionalniportaly.cz
DTSTAMP:20260424T164718Z
DTSTART;VALUE=DATE:20260205
DTEND;VALUE=DATE:20260206
SUMMARY:SYNKOPY 61 + Beer Reminder
DESCRIPTION:
LOCATION:Plzeň
END:VEVENT
END:VCALENDAR