BEGIN:VCALENDAR
VERSION:2.0
CALSCALE:GREGORIAN
PRODID:-//MyApp//Calendar 1.0//EN
BEGIN:VEVENT
METHOD:PUBLISH
UID:62469@regionalniportaly.cz
DTSTAMP:20260424T201114Z
DTSTART;VALUE=DATE:20260220
DTEND;VALUE=DATE:20260221
SUMMARY:X-Cover | Buena Vista Plzeň 2026!
DESCRIPTION:PRVNÍ KLUBOVÝ KONCERT V ROCE 2026! Jsme zpět s novou energií\, koncept&nbsp\;a s radostí vás zveme\, přijďte s námi zažít tu jedinečnou atmosféru klubového koncertu. Těšíme se na vás\, pojďme si připomenout tu správnou atmosféru plzeňské Buena Visty.Open door: 19:30start: 21:00afterpartyvstup: 250 Kč předprodej / 300 Kč na místěPředprodej vstupenek do Private Zone:VIP vstupenka (balkón s vlastním barem\, sezením): 490 KčOMEZENÁ KAPACITA!
LOCATION:Plzeň
END:VEVENT
END:VCALENDAR