BEGIN:VCALENDAR
VERSION:2.0
CALSCALE:GREGORIAN
PRODID:-//MyApp//Calendar 1.0//EN
BEGIN:VEVENT
METHOD:PUBLISH
UID:62448@regionalniportaly.cz
DTSTAMP:20260424T212130Z
DTSTART;VALUE=DATE:20260225
DTEND;VALUE=DATE:20260226
SUMMARY:17. Business oběd pro podnikavé ženy
DESCRIPTION:STŘEDA 25. ÚNORA 2026\nHOTEL CENTRAL PLZEŇ\, NÁMĚSTÍ REPUBLIKY 33\nexcellentnizena.cz\nBudování kontaktů a poznávání potenciálních obchodních partnerů může mít i méně obvyklé podoby. Networking (tvoření sítě kontaktů) je podle odborníků efektivnější než reklama. A pokud se koná na příjemném místě spojené s dobrým jídlem\, i je svět hned krásnější. Podnikání není jen o konkurenci\, ale také o podpoře a vzájemné empatii.\n Přijďte na Business oběd a:\n\nseznamte se s novými lidmi ze světa podnikání\npřidejte se do společenství lidí\, kteří Vám porozumí\nbudujte dlouhodobě kvalitní vztahy s lidmi\, kteří mají podobné hodnoty a cíle jako Vy.\n\n Součástí oběda bude i zajímavá přednáška.  Náš host – Ing. Ivan Pősinger: 10 rad a tipů\, jak nepřijít zbytečně o peníze na daních\n \nCo získáte?\n\nprostor pro představení vašeho produktu či služby\nkontakty na všechny účastníky\nnové lidi\, nové zkušenosti\, nový způsob networkingu\n2-3 hodiny mezi inspirativními a pozitivně naladěnými ženami\n\n \nCo vás to bude stát?\n\n680 Kč vč. luxusního oběda a dárků\n\n \nCo pro to musíte udělat?\n\nregistrovat se na https://explzen.cz/index.php?id=zena/obed\nmoc neotálet\, kapacita setkání je limitována\n\n \nPotřebujete více informací?\n\nvolejte 732 858 631\npište zena@explzen.cz\n\nTak si tu svoji příležitost milé ženy nenechte ujít.\nBližší informace – excellentnizena.cz
LOCATION:Plzeň
END:VEVENT
END:VCALENDAR