BEGIN:VCALENDAR
VERSION:2.0
CALSCALE:GREGORIAN
PRODID:-//MyApp//Calendar 1.0//EN
BEGIN:VEVENT
METHOD:PUBLISH
UID:62174@regionalniportaly.cz
DTSTAMP:20260424T174701Z
DTSTART;VALUE=DATE:20260318
DTEND;VALUE=DATE:20260319
SUMMARY:Žerty stranou - Impro comedy show - Plzeň
DESCRIPTION:Seznámili se při natáčení soutěžního pořadu Partička – Nová Krev a okamžitě si padli do oka.&nbsp\;Z vítěze a finalistů vzniklo i nové uskupení\, které se nyní uchází o vaši přízeň svou originální improvizační comedy show. Čekají vás chvíle plné nečekaných zápletek\, překvapivých zvratů a především humoru\, který bude vznikat přímo před vašima očima.Jan Bedřich\, Jan Kouba\, Petr Kubala a Marcel Mika.&nbsp\;Odložte tedy žerty stranou – a přijďte se s námi zasmát!
LOCATION:Plzeň
END:VEVENT
END:VCALENDAR