BEGIN:VCALENDAR
VERSION:2.0
CALSCALE:GREGORIAN
PRODID:-//MyApp//Calendar 1.0//EN
BEGIN:VEVENT
METHOD:PUBLISH
UID:62171@regionalniportaly.cz
DTSTAMP:20260424T100145Z
DTSTART;VALUE=DATE:20260527
DTEND;VALUE=DATE:20260528
SUMMARY:Léčba smíchem - Talk show / Bubílková\, Pitkin\, Šimůnek
DESCRIPTION:LÉČBA SMÍCHEM&nbsp\;- ZUZANA BUBÍLKOVÁ\, MILAN PITKIN A MIROSLAV ŠIMŮNEK&nbsp\;Talkshow Zuzany Bubílkové\, Milana Pitkina a Miroslava Šimůnka.&nbsp\;Vtipné vyprávění plné historek ze soukromého i profesního života protagonistů\, glosy na aktuální témata současného dění a bezpočet vtipů Milana Pitkina s písničkami Waldemara Matušky.&nbsp\;Délka: 110 minut plus&nbsp\;autogramiáda
LOCATION:Plzeň
END:VEVENT
END:VCALENDAR