BEGIN:VCALENDAR
VERSION:2.0
CALSCALE:GREGORIAN
PRODID:-//MyApp//Calendar 1.0//EN
BEGIN:VEVENT
METHOD:PUBLISH
UID:62104@regionalniportaly.cz
DTSTAMP:20260424T100157Z
DTSTART;VALUE=DATE:20260327
DTEND;VALUE=DATE:20260328
SUMMARY:Rambanbám (křest alba) + host: Benjaming's Clan
DESCRIPTION:RAMBANBÁM 15 LET NA SCÉNĚ &amp\; KŘEST NOVÉHO ALBA SWINČÍK&nbsp\;&nbsp\;... taková věc si žádá speciální koncert\, jaxepatří.Pokřtíme nové album SWINČÍK\, zahrajeme průřez naší historií a na pódiu se objeví i bývalí členové kapely. Prostě jedinečná noc\, která se dlooooouho nebude opakovat.Speciální host: BENJAMING’S CLAN#rock’n’dudy od Benjaminů jsou smršť pro každé publikum.Skotské dudy s keltským nádechem a punkové kořeny\, špetka folku a rock’n’rollu dělají z jejich koncertů brutální párty!&nbsp\;Sami jsme okusili teď pod Lampou!&nbsp\;https://youtu.be/ZTipV8SgN-gTo je oslava\, kterou si RAMBANBÁM k patnáctinám zaslouží.Buď u toho. Doraž! Tenhle večírek bude Swinčík!&nbsp\;&nbsp\;https://www.facebook.com/events/1448260710060114/?acontext=%7B%22event_action_history%22%3A[%7B%22extra_data%22%3A%22%22%2C%22mechanism%22%3A%22surface%22%2C%22surface%22%3A%22permalink%22%7D%2C%7B%22extra_data%22%3A%22%22%2C%22mechanism%22%3A%22surface%22%2C%22surface%22%3A%22edit_dialog%22%7D]%2C%22ref_notif_type%22%3Anull%7D
LOCATION:Plzeň
END:VEVENT
END:VCALENDAR