BEGIN:VCALENDAR
VERSION:2.0
CALSCALE:GREGORIAN
PRODID:-//MyApp//Calendar 1.0//EN
BEGIN:VEVENT
METHOD:PUBLISH
UID:61711@regionalniportaly.cz
DTSTAMP:20260424T174721Z
DTSTART;VALUE=DATE:20260122
DTEND;VALUE=DATE:20260123
SUMMARY:Slavnostní zahajovací koncert Rok akordeonu
DESCRIPTION:Slavnostní zahajovací koncert Roku akordeonu Vám představí zakladatele a uměleckého ředitele Accordion School Petr Vacek – pana Petra Vacka.Geniální akordeonista a skvělý akordeonový pedagog se Vám představí nejen jako sólový hráč. Představí Vám také\, jak krásně může akordeon znít v kombinaci se zpěvem mezzosopranistky Edity Adlerové\, v Trio del Diablo v kombinaci s klavíristkou Michaelou Vackovou&nbsp\;a houslistou Janem Radou&nbsp\;a v neposlední řadě s oduševnělým saxofonem Davida Kováře.&nbsp\;Nenechte si ujít tento jedinečný zážitek a přijďte se k nám připojit na tomto koncertě.&nbsp\;Vstupenky jsou k dostání pouze online.Těšíme se na Vás!&nbsp\;
LOCATION:Plzeň
END:VEVENT
END:VCALENDAR