BEGIN:VCALENDAR
VERSION:2.0
CALSCALE:GREGORIAN
PRODID:-//MyApp//Calendar 1.0//EN
BEGIN:VEVENT
METHOD:PUBLISH
UID:61218@regionalniportaly.cz
DTSTAMP:20260424T190756Z
DTSTART;VALUE=DATE:20260228
DTEND;VALUE=DATE:20260301
SUMMARY:Slavíček - Zimní šňůra
DESCRIPTION:Zpěvák a skladatel s výrazným rukopisem na pomezí indie popu a alternativy.Slavíček přináší osobitou kombinaci civilnosti a energie. Ve svých skladbách propojuje křehkost s ironií\, hravost s hlubokým obsahem. Jeho hudba působí nenuceně\, ale nese jasný rukopis a postoj. Na české scéně působí jako čerstvý vítr – mladý\, přirozený\, přesvědčivý a uvěřitelný.&nbsp\;Support: Beira
LOCATION:Plzeň
END:VEVENT
END:VCALENDAR