BEGIN:VCALENDAR
VERSION:2.0
CALSCALE:GREGORIAN
PRODID:-//MyApp//Calendar 1.0//EN
BEGIN:VEVENT
METHOD:PUBLISH
UID:61108@regionalniportaly.cz
DTSTAMP:20260425T023216Z
DTSTART;VALUE=DATE:20260214
DTEND;VALUE=DATE:20260215
SUMMARY:PUNKROCK ON THE ROAD – TOUR 2026
DESCRIPTION:TOTÁLNÍ NASAZENÍ / THE FIALKY / NEŽFALEŠ – PUNKROCK ON THE ROAD – TOUR 2026Společné turné spřízněných punkrockových kapel\, které navazuje na divácky úspěšnou koncertní šňůru z roku 2024. Pro velký zájem je tentokrát celé turné koncipováno jako série vystoupení po kulturních domech a velkých klubech.Celé turné odstartuje už 14. 2. 2026 v Plzni v hale Depo 2015.V roli supportu koncertů se střídavě představí kapely Dilemma in Cinema nebo ska-folk-punkoví Deratizéři.Totální nasazení a Nežfaleš navíc přivezou i zbrusu nová alba.PUNKROCK ON THE ROAD – TOUR 2026 proběhne od února do dubna v&nbsp\;jedenácti městech v&nbsp\;Čechách na Moravě a na Slovensku.14.2. PLZEŇ – Hala Depo 201527.2. VOLYNĚ – KD13.3 TEPLICE – KD14.3. BRATISLAVA – MMC20.3. ČESKÉ BUDĚJOVICE – KD Vltava21.3. PRAHA – MeetFactory27.3. ZLÍN – MoR28.3. BRNO – První Patro10.4 PARDUBICE – ABC11.4. LIBEREC – KD17.4. KARLOVY VARY – Lidový důmPředprodej na celé turné:https://www.smsticket.cz/skupiny/743-punkrock-on-the-road-tour-2026Děti do čtrnácti let v&nbsp\;doprovodu rodičů a držitelé průkazů TP\, ZTP nebo ZTP/P mají VSTUP ZDARMA&nbsp\; u ZTP/P má pochopitelně VSTUP ZDARMA i&nbsp\;PRŮVODCE.&nbsp\;
LOCATION:Plzeň
END:VEVENT
END:VCALENDAR