BEGIN:VCALENDAR
VERSION:2.0
CALSCALE:GREGORIAN
PRODID:-//MyApp//Calendar 1.0//EN
BEGIN:VEVENT
METHOD:PUBLISH
UID:61036@regionalniportaly.cz
DTSTAMP:20260425T011724Z
DTSTART;VALUE=DATE:20260313
DTEND;VALUE=DATE:20260314
SUMMARY:Morčata na útěku\, Vráťa Hošek
DESCRIPTION:Banda brněnských komiků Morčata na útěku zavítají v Plzni na legendární Šeříkovku.&nbsp\;Do tandemu si berou pražského písničkáře&nbsp\;Vráťu Hoška\, který rovněž proslul svými parodickými texty\, ve kterých mu není žádná říše svatá.
LOCATION:Plzeň
END:VEVENT
END:VCALENDAR