BEGIN:VCALENDAR
VERSION:2.0
CALSCALE:GREGORIAN
PRODID:-//MyApp//Calendar 1.0//EN
BEGIN:VEVENT
METHOD:PUBLISH
UID:60992@regionalniportaly.cz
DTSTAMP:20260424T134735Z
DTSTART;VALUE=DATE:20260412
DTEND;VALUE=DATE:20260413
SUMMARY:Mňága a Žďorp & Slobodná Európa
DESCRIPTION:Do Šeříkovky míří dvě legendy česko-slovenské rockové scény!Na jednom pódiu se setkají slovenská punk-rocková kapela Slobodná Európa a česká alternativní skupina Mňága a Žďorp. Těšit se můžete na večer plný energie\, chytlavých melodií\, výrazných textů a poctivého rock’n’rollu.Přijďte si užít jedinečné hudební setkání\, které nabídne to nejlepší z obou kapel – syrovou punkovou sílu i melodickou poetiku českého alternativního rocku.
LOCATION:Plzeň
END:VEVENT
END:VCALENDAR