BEGIN:VCALENDAR
VERSION:2.0
CALSCALE:GREGORIAN
PRODID:-//MyApp//Calendar 1.0//EN
BEGIN:VEVENT
METHOD:PUBLISH
UID:60991@regionalniportaly.cz
DTSTAMP:20260424T212050Z
DTSTART;VALUE=DATE:20260307
DTEND;VALUE=DATE:20260308
SUMMARY:Visací zámek
DESCRIPTION:Do plzeňské Šeříkovky opět zamíří známka punku&nbsp\;Visací zámek&nbsp\;je&nbsp\;punková&nbsp\;skupina\, působící na české hudební scéně již od roku 1982. Kapela hraje stále v původní sestavě. Zejména v počátcích svojí tvorby silně ovlivnila zvuk celé jedné generace kapel a názory celé jedné generace posluchačů.&nbsp\;Přiďte si poslouchnou pořádnou nálož punkové muziky se spoustou nezapomenutelných hitů.
LOCATION:Plzeň
END:VEVENT
END:VCALENDAR