BEGIN:VCALENDAR
VERSION:2.0
CALSCALE:GREGORIAN
PRODID:-//MyApp//Calendar 1.0//EN
BEGIN:VEVENT
METHOD:PUBLISH
UID:60804@regionalniportaly.cz
DTSTAMP:20260425T035901Z
DTSTART;VALUE=DATE:20260320
DTEND;VALUE=DATE:20260321
SUMMARY:Vojtaano Band Tour 2026
DESCRIPTION:První samostatná tour kde Vojtaano zahraje všechny největší hity za doprovodu kapely složené ze členů Fast Food Orchestra.20:00 open21:00 Start
LOCATION:Plzeň
END:VEVENT
END:VCALENDAR