BEGIN:VCALENDAR
VERSION:2.0
CALSCALE:GREGORIAN
PRODID:-//MyApp//Calendar 1.0//EN
BEGIN:VEVENT
METHOD:PUBLISH
UID:60784@regionalniportaly.cz
DTSTAMP:20260424T185641Z
DTSTART;VALUE=DATE:20251206
DTEND;VALUE=DATE:20251207
SUMMARY:Vánoční trhy v Plzni + Andělská sbírka dárků + přednášky
DESCRIPTION:Zveme vás na víkendové Vánoční trhy v kulturním domě Šeříkovka v Plzni a uvítáme vaši pomoc s Andělskou sbírkou dárků pro osamělé seniory\, rodiny s dětmi z azylového domu\, zvířata z útulku. V teple kulturního domu najdete přes 50 stánků (vstup ZDARMA)\, občerstvení\, program pro děti i dospělé.Vánoční trhy jsou doplněny 13 přednáškami ˇ(viz program níže) a zdarma můžete absolvovat test dlouhověkosti nebo pády důvěry. Děti zde najdou Ježíškovu schránkou na dopisy\, pastelky a křídy\, aby mohly napsat vzkaz přímo na místě\, mohou si odpočinou v relaxačním koutku nebo jít do výtvarné\, řemeslné dílny u některých stánků. Nebude chybět ani oblíbená adventní seznamka\, čajovna\, masáže. Vstup je ZDARMA\, pouze odpolední přednášky od 13 hodin jsou za symbolické vstupné 300 Kč na víkend. a nedělní setkání s Janem Hnízdilem od 19 hodin (7.12.) má samostatné vstupné 450 Kč.Součástí vánočního víkendu je Andělská sbírka dárků pro osamělé seniory\, rodiče s dětmi z azylového domu MáTa pro rodinu\, zvířata z útulku. Věnujte\, pokud je to pro vás možné\, svůj&nbsp\;dárek (použitý nebo nový).&nbsp\;Dárky od vás převezmou andělé přímo v&nbsp\;kulturním domě Šeříkovka a budou předány do azylového domu\, zvířecího útulku a do mezigeneračního centra TOTEM\, z.s. Do Andělské sbírky doporučujeme věnovat hračky\, stavebnice\, dekorační a užitkové předměty\, knihy\, výtvarné potřeby\, věci používané i nové\, konzervy a granule pro zvířata apod.\, to co bys potěšilo na Vánoce. Sbírka probíhá od 11 do 18 hodin celý víkend. Děkujeme\, že věnujete kousek vánoční radosti potřebným a přinesete drobnost pod stromeček těm\, kteří letos nemají možnost si ji koupit. Kontaktní e-mail: avatar.klub@seznam.cz.&nbsp\;Program: www.avatarklub.cz&nbsp\;​SOBOTA 6.12. (do 13.00 zdarma)11.11 – 12.12:&nbsp\;Bosenské pyramidy a&nbsp\;léčivé údolí Visoko&nbsp\;(beseda s&nbsp\;účastníky cesty poznání z&nbsp\;října 2025\, vstup zdarma)12.12 – 13.13:&nbsp\;Novinky v&nbsp\;energetické síti planety Země&nbsp\;(Kryštof Koucký)13.13 – 15.00:&nbsp\;Zprávy z&nbsp\;galaxie\, co přináší 3I ATLAS&nbsp\;(Andrea Svobodová Křešová)15.00 – 16.00:&nbsp\;Védská filozofie a&nbsp\;vánoční zpívání manter\, dárek: ochutnávka jídla bez karmy (v&nbsp\;předsálí)16.00 – 17.00:&nbsp\;Tělové a&nbsp\;ušní svíce v&nbsp\;praxi&nbsp\;(Alena Babková)17.00 – 18.00:&nbsp\;Dlouhověkost&nbsp\;(Jana Silovská) + průběžně celý den ZDARMA test dlouhověkosti v&nbsp\;přízemí KD Šeříkovka18.00 – 19.00:&nbsp\;Advent lásky – „Narodil se Ježíš\, probouzí se Máří – Tajemství posvátného spojení“\, přednáška s&nbsp\;rituálem (Petra Košťálová a&nbsp\;Radek Schejbal)NEDĚLE 7.12. (do 13.00 zdarma)11.00 – 12.00:&nbsp\;Pády důvěry&nbsp\;(zážitkový workshop)&nbsp\;+ kruh sdílení na téma důvěra ve flow života (Jan Navrátil a&nbsp\;hosté)12.00 – 13.00:&nbsp\;Shamanika – kruh léčivých vibrací&nbsp\;(Miska Chaska)13.00 – 14.00:&nbsp\;Meditace s&nbsp\;křišťálovými mísami a&nbsp\;harmonizační vibrace Larimaru&nbsp\;(Anael)14.00 – 15.00:&nbsp\;Jaké principy a&nbsp\;vztahy budou v&nbsp\;Nové době?&nbsp\;– prožitková přednáška s&nbsp\;Araretama (Miroslava Matea Veselá)15.00 – 16.00:&nbsp\;Posvátná ekonomika – vliv duchovních bytostí na změnu ekonomického řádu&nbsp\;(Karel Beneš)16.00 – 17.10:&nbsp\;Automatická kresba s&nbsp\;prvky konstelací&nbsp\;(Hana Šmídová)17.15 – 19.00:&nbsp\;Advent lásky „Rituál lásky a&nbsp\;sounáležitosti“&nbsp\;(Petra Košťálová a&nbsp\;Radek Schejbal)\, www.posvatnevztahy.cz19.00 – 21.00:&nbsp\;Jan HNÍZDIL&nbsp\;„Jak zůstat zdravý v&nbsp\;nemocné společnosti“Na Vánočním setkání najdete: relaxační zónu pro děti\, čajovnu\, kávu z&nbsp\;Kolumbie\, kakaový rituálCelkem nabídneme 13 přednášek: 12x hodinu + 1\,5 hodinovou besedu s&nbsp\; autogramiádou s&nbsp\;Janem HnízdilemBonus ZDARMA: test dlouhověkosti v&nbsp\;sobotu a&nbsp\;pády důvěry v&nbsp\;neděliPódium: dozvíte se čerstvé informace k&nbsp\;opravdové seznamce\, zóně lásky i&nbsp\;termíny setkání pro nezadanéDárek pro každého: všechny vstupenky budou slosovány v&nbsp\;tombole a&nbsp\;každá placená vstupenka (nebo lístek do tomboly) vyhrávajíMasáže: užijete si různé typy\, vyzkoušíte novinkyBurza knih a&nbsp\;vánočních dárků: přineste svoje\, odneste si jiné nebo za dobrovolný příspěvek najděte ty\, které vás oslovíStánky: kolem 50 stánkařů nabízejících vánoční vouchery\, dárky\, dekorace\, jmelí\, poradenstvíVýtvarné a&nbsp\;řemeslné dílny pro děti i&nbsp\;dospěléObčerstvení: od palačinek až k&nbsp\;horkému alko i&nbsp\;nealko svařákuAndělská sbírka dárků + schránka na dopisy pro Ježíška&nbsp\;&nbsp\;
LOCATION:Plzeň
END:VEVENT
END:VCALENDAR