BEGIN:VCALENDAR
VERSION:2.0
CALSCALE:GREGORIAN
PRODID:-//MyApp//Calendar 1.0//EN
BEGIN:VEVENT
METHOD:PUBLISH
UID:60759@regionalniportaly.cz
DTSTAMP:20260424T110445Z
DTSTART;VALUE=DATE:20260328
DTEND;VALUE=DATE:20260329
SUMMARY:Lucie Revival - 20 let s vámi
DESCRIPTION:Skupina LUCIE REVIVAL slaví v roce 2025 dvacet let od svého založení a v rámci těchto narozeninových oslav odehrála mnoho koncertů\, avšak finále je vždy jenom jedno. To se uskuteční 28.3. 2026 v Plzeňské Šeříkovce. Kapela chce všem svým fanouškům tímto koncertem poděkovat za dosavadní přízeň a zároveň tak pozvat na další společnou etapu. Určitě se máte na co těšit.
LOCATION:Plzeň
END:VEVENT
END:VCALENDAR