BEGIN:VCALENDAR
VERSION:2.0
CALSCALE:GREGORIAN
PRODID:-//MyApp//Calendar 1.0//EN
BEGIN:VEVENT
METHOD:PUBLISH
UID:60758@regionalniportaly.cz
DTSTAMP:20260424T162626Z
DTSTART;VALUE=DATE:20260319
DTEND;VALUE=DATE:20260320
SUMMARY:Vesna
DESCRIPTION:&nbsp\;Vesna je výrazná dívčí kapela spojující moderní pop s folklorními a slovanskými prvky. Jejich hudba přináší originální zvuk\, silné texty a vizuálně poutavé vystoupení. V roce 2023 zaujaly celou Evropu\, když reprezentovaly Českou republiku na Eurovision Song Contest a od té doby jejich popularita neustále roste.19.3.2026 vystoupí i v&nbsp\;plzeňské Šeříkovce. Vystoupení Vesny je dynamické a vizuálně atraktivní – propojuje moderní zvuk s prvky lidové hudby\, originálními kostýmy a energií\, která dokáže strhnout široké publikum.
LOCATION:Plzeň
END:VEVENT
END:VCALENDAR