BEGIN:VCALENDAR
VERSION:2.0
CALSCALE:GREGORIAN
PRODID:-//MyApp//Calendar 1.0//EN
BEGIN:VEVENT
METHOD:PUBLISH
UID:60757@regionalniportaly.cz
DTSTAMP:20260425T035750Z
DTSTART;VALUE=DATE:20260214
DTEND;VALUE=DATE:20260215
SUMMARY:Debustrol + Fata Morgana + Blood Creek
DESCRIPTION:METALOVÝ MASAKR V PLZNI!&nbsp\;Připravte se na nefalšovanou nálož thrashe a death metalu\, která vás nenechá vydechnout!DEBUSTROL vyráží na další štaci a dorazí i do Šeříkovky v Plzni! Tahle česká thrashmetalová legenda\, která příští rok oslaví neuvěřitelných 40 let na scéně\, rozjede pekelnou show\, jakou umí jen oni.Kdy a Kde?Datum: Sobota 14. února 2026 (Perfektní Valentýnský dárek\, že?Speciální hosté:V roli supportu se představí FATA MORGANA\, kteří už léta dokazují\, že česká death/thrash metalová scéna má co nabídnout!&nbsp\; Jako předkapela bude vystupovat thrash metalová grupa Blood Creek z Domažlic\,&nbsp\;co hraje syrový (old school) thrash metal vlastní tvorby. Letos oslaví 10 let působení.&nbsp\;Čeká vás večer plný nekompromisních riffů\, drtivých bicích a té nejlepší metalové atmosféry! Nenechte si ujít tuhle jedinečnou událost\, sežeňte si lístky včas a přijďte si s námi užít nezapomenutelnou metalovou noc
LOCATION:Plzeň
END:VEVENT
END:VCALENDAR