BEGIN:VCALENDAR
VERSION:2.0
CALSCALE:GREGORIAN
PRODID:-//MyApp//Calendar 1.0//EN
BEGIN:VEVENT
METHOD:PUBLISH
UID:60756@regionalniportaly.cz
DTSTAMP:20260424T164739Z
DTSTART;VALUE=DATE:20260205
DTEND;VALUE=DATE:20260206
SUMMARY:Synkopy 61 + Beer Reminder
DESCRIPTION:Synkopy 61 :: 65 let na scéně&nbsp\;&nbsp\;V koncertním programu Válka je vůl\, nazvaném podle jejich největšího raného hitu (Oldřich Veselý / František Jemelka) z roku 1968 se představí nejstarší fungující kapela u nás i na světě\, brněnské SYNKOPY 61. V 60. a 70. letech skupina patřila ke špičce naší scény a slavila úspěchy i v zahraničí. Vydala tři minialba a řadu singlů a EP. V 80. letech\, po návratu hlavního autora a zpěváka Oldřicha Veselého z angažmá v pražském Blue Effectu\, vydala kapela pod modifikovaným názvem Synkopy &amp\; Oldřich Veselý vysoce ceněná artrocková alba Sluneční hodiny a Křídlení s texty Pavla Vrby. Kdo by neznal baladu Černý racek? V Synkopách stále působí zakládající členové\, bubeník Jiří Rybář a kytarista a kapelník Petr Směja. Už mnoho let je v porevoluční éře doplňují klávesista Jan Korbička a basista\, kytarista a hlavní zpěvák Vilém Majtner. Vokály zpívají všichni a pořád jim to skvěle ladí!&nbsp\;Beer Reminder:&nbsp\;&nbsp\;Energická parta\, která se inspiruje rockovou klasikou s moderním\, chytlavým zvukem. Slibují pořádnou dávku nespoutané energie a dravého rock'n'rollu. Jejich show je plná síly a melodických refrénů\, které vám nedají spát.Čeká Vás nezapomenutelný večer 😉&nbsp\;
LOCATION:Plzeň
END:VEVENT
END:VCALENDAR