BEGIN:VCALENDAR
VERSION:2.0
CALSCALE:GREGORIAN
PRODID:-//MyApp//Calendar 1.0//EN
BEGIN:VEVENT
METHOD:PUBLISH
UID:60754@regionalniportaly.cz
DTSTAMP:20260424T211707Z
DTSTART;VALUE=DATE:20260122
DTEND;VALUE=DATE:20260123
SUMMARY:Vítkovo kvarteto
DESCRIPTION:Vítkovo kvarteto je česká bigbeatová skupina. Tihle kluci jsou jako dobrý whisky – čím starší\, tím lepší. Vítkovo kvarteto se na scéně objevilo už v 80. letech a od té doby nám servíruje svůj neměnný repertoár na koncertech\, kde to žije. Kdo by taky neznal jejich největší hit “Pražskej démon”?Jejich styl je charakteristický kombinací rocku\, hard rocku 70. let a nové vlny\, s vtipnými texty a energickými koncerty plnými humoru. Jejich hudba představuje unikátní směsici “crazy wave” a “crazy rocku”\, která oslovuje fanoušky napříč generacemi.
LOCATION:Plzeň
END:VEVENT
END:VCALENDAR