BEGIN:VCALENDAR
VERSION:2.0
CALSCALE:GREGORIAN
PRODID:-//MyApp//Calendar 1.0//EN
BEGIN:VEVENT
METHOD:PUBLISH
UID:60753@regionalniportaly.cz
DTSTAMP:20260424T224224Z
DTSTART;VALUE=DATE:20260117
DTEND;VALUE=DATE:20260118
SUMMARY:XIII. STOLETÍ & PROJEKT XIII.
DESCRIPTION:Kultovní XIII. století a energický Projekt XIII. opět spojí síly\, aby společně uhranuli plzeňskou Šeříkovku. Připravte se na mrazivou dávku gotického rocku\, která vám roztančí krev v žilách a připomene\, že temnota má mnoho neodolatelných podob. XIII. století:&nbsp\;Nestárnoucí legendy české gothic scény přinesou osvědčené hity jako "Karneval"\, "Elisabeth" nebo "Justýna"\, které znějí temněji a silněji než kdy předtím. Nechte se unést do světa upírů\, mystiky a ponuré romantiky\, který kapela s mistrnou přesností tvoří už desítky let.Projekt XIII.:&nbsp\;Atmosféru večera dokreslí spřátelený Projekt XIII. Se svým úderným gothic rockem a jedinečným stylem dodají celému vystoupení hypnotickou hloubku a rozměr.
LOCATION:Plzeň
END:VEVENT
END:VCALENDAR