BEGIN:VCALENDAR
VERSION:2.0
CALSCALE:GREGORIAN
PRODID:-//MyApp//Calendar 1.0//EN
BEGIN:VEVENT
METHOD:PUBLISH
UID:60720@regionalniportaly.cz
DTSTAMP:20260425T023226Z
DTSTART;VALUE=DATE:20260108
DTEND;VALUE=DATE:20260109
SUMMARY:Abba Stars
DESCRIPTION:Skupina Abba Stars oslavila minulý rok 20 let působení na české i světové scéně velkolepým turné po České i Slovenské republice\, kdy odehrála 40 koncertních vystoupení. Na toto turné navazuje i v sezóně 2025/26\, kdy se mohou zájemci těšit na nově sestavený program se známými hity jako je&nbsp\;Mamma Mia\, Super Trouper\, Waterloo&nbsp\;a další.„Přijďte si vychutnat jedinečnou atmosféru koncertu ABBA STARS\, která Vás pohltí a zavede do 70. a 80. let.”Kapela Abba Stars je mimochodem vítězem&nbsp\;Českého slavíka&nbsp\;2013 v kategorii&nbsp\;Skokan roku. Koncert je koncipován jako stolové uspořádání\, takže zájemci mohou tančit i sedět.
LOCATION:Plzeň
END:VEVENT
END:VCALENDAR