BEGIN:VCALENDAR
VERSION:2.0
CALSCALE:GREGORIAN
PRODID:-//MyApp//Calendar 1.0//EN
BEGIN:VEVENT
METHOD:PUBLISH
UID:60562@regionalniportaly.cz
DTSTAMP:20260424T211637Z
DTSTART;VALUE=DATE:20260320
DTEND;VALUE=DATE:20260321
SUMMARY:Mistr filmové hudby Hans Zimmer
DESCRIPTION:&nbsp\;Koncert při svíčkách: Mistr filmové hudby Hans&nbsp\;ZimmerBěhem&nbsp\;65 minut&nbsp\;zazní ikonická hudba z velkofilmů a seriálů\, které uchvátily diváky po celém světě! Těšit se můžete na emotivní\, dramatické i dobrodružné skladby – od hrdinských tónů&nbsp\;Piráti z Karibiku&nbsp\;či&nbsp\;Top Gun\, přes hluboké emoce z&nbsp\;Gladiátora&nbsp\;a&nbsp\;Pearl Harbor\, až po magické melodie z&nbsp\;Interstellar\,&nbsp\;Da Vinciho kódu&nbsp\;nebo&nbsp\;Koruny.Nechte se unést výjimečnou atmosférou večera\, kdy světlo tisíce svíček rozzáří prostory a smyčcové kvarteto&nbsp\;Krása Quartet&nbsp\;vás provede těmi nejpůsobivějšími filmovými melodiemi.Program večera zahrnuje mimo jiné:Piráti z Karibiku – On je pirátGladiátor – Teď jsme svobodníTop Gun – Maverick AnthemŠifra mistra Leonarda – Dies Mercurii I MartiusInterstellar – Cornfield ChaseStallion – Nothing I've Ever KnownBatman vs. Superman – LetPrázdniny – MaestroThe Pacific – Hlavní témaOnce Upon a Time in AfricaLví Král – Král smečkyPiráti z Karibiku – Davy JonesPearl Harbor – And Then I Kissed HimAndělé a Démoni – 503Koruna – Hlavní témaPearl Harbor – TennesseeA další!Přijďte si užít jedinečný večer\, kde se spojí síla filmové hudby\, živý výkon smyčcového kvarteta a nezaměnitelná atmosféra koncertního sálu&nbsp\;osvětleného tisíci svíček.
LOCATION:Plzeň
END:VEVENT
END:VCALENDAR