BEGIN:VCALENDAR
VERSION:2.0
CALSCALE:GREGORIAN
PRODID:-//MyApp//Calendar 1.0//EN
BEGIN:VEVENT
METHOD:PUBLISH
UID:60553@regionalniportaly.cz
DTSTAMP:20260421T112424Z
DTSTART;VALUE=DATE:20260507
DTEND;VALUE=DATE:20260508
SUMMARY:Deloraine v Plzni (Šeříkovka)
DESCRIPTION:Deloraine zahrají velký dvouhodinový koncert s novou show.&nbsp\;Připravte se na nezapomenutelný večer s Deloraine! Na epickou výpravu do světů inspirovaných Zaklínačem\, keltskými mýty\, severskými ságami a dávnými slovanskými legendami. Hudba Deloraine je víc než jen koncert – je to rituál\, oslava a divoký tanec v jednom!Deloraine mistrně splétají mocné vokály charismatických zpěváků s bohatým zvukem pestré škály etnických a exotických nástrojů.&nbsp\; Koncerty Deloraine jsou proslulé svou strhující atmosférou a vizuální podívanou. A tentokrát navíc se zcela novou show. Těšte se na pohanské tance\, tajemné rituály\, výjimečné kostýmy a na pódiu ožívající postavy jako rohatá vědma\, bůh Cernunnos či samotný Odin. Jejich vystoupení jsou nekonečným proudem energie\, který si podmanil publika na velkých evropských festivalech i vyprodaných klubových scénách.Po koncertě se na vás těšíme u našeho merch stánku\, kde se vám rádi podepíšeme nebo se s vámi vyfotíme a popovídáme.&nbsp\;Těšíme se na vás!Vstupenky:Lístky v předprodeji na portálu smsticket.czCena v předprodeji&nbsp\; DO 31.12. VÁNOČNÍ SLEVA MORANY&nbsp\;-&nbsp\; 590\,- KčCena v předprodeji&nbsp\; OD 1.1.2026&nbsp\; -&nbsp\; 690\,- KčCena na místě v den konání akce - 790\,- Kč
LOCATION:Plzeň
END:VEVENT
END:VCALENDAR