BEGIN:VCALENDAR
VERSION:2.0
CALSCALE:GREGORIAN
PRODID:-//MyApp//Calendar 1.0//EN
BEGIN:VEVENT
METHOD:PUBLISH
UID:60384@regionalniportaly.cz
DTSTAMP:20260424T110204Z
DTSTART;VALUE=DATE:20260411
DTEND;VALUE=DATE:20260412
SUMMARY:KarmaFest Plzeň 2026
DESCRIPTION:KarmaFest 2026: Reflections of Karma\, Imodium a Post-it dokážou\, že rock žije&nbsp\;KarmaFest 2026 je první ročník nového klubového festivalu zaměřeného na současnou rockovou a kytarovou hudbu. Vzniká z iniciativy mezinárodní rockové superskupiny Reflections of Karma a reaguje na dlouhodobý úbytek prostoru pro živý rock v klubovém prostředí. Festival je koncipován jako komorní indoorová akce\, která staví na blízkém kontaktu kapel s publikem\, autentické atmosféře a energii\, jež vzniká pouze při živém hraní.Reflections of Karma patří k nejvýraznějším novým jménům české rockové scény posledních let. Kapelu tvoří zpěvák Travis O’Neill (ex-Pipes and Pints)\, kytarista Maťo Mišík (ex-Tata Bojs)\, baskytarista Josh Stewart (Gaia Mesiah) a bubeník Tomáš Hajíček Jr. (Krucipüsk). Na podzim 2025 vydala debutové album Venom &amp\; Velvet\, byla oceněna jako Objev roku v anketě Žebřík Awards a její první pražský koncert byl zcela vyprodán. Právě zkušenosti z klubové scény a potřeba vytvořit prostor pro živou\, poctivou rockovou hudbu stály u zrodu KarmaFestu.V rámci KarmaFestu 2026 se představí také kapely Imodium a Post-it. Imodium se po comebacku v roce 2023 vrátili na pódia ve výborné formě\, což potvrdily recenze na album Horizont i i koncerty ve Forum Karlín či Nové Spirále\, kde se kapela kolem zpěváka a producenta Thoma Frödeho představila akusticky. Post-it navazují na více než dvacetiletou historii české klubové scény a po personálním rozšíření přinášejí hutnější a syrovější zvuk.KarmaFest 2026 proběhne formou jarní a podzimní koncertní série v klubech napříč Českou republikou. Na jaře se festival zastaví v Havlíčkově Brodě\, Plzni\, Teplicích\, Českých Budějovicích a Pardubicích\, na podzim pak v Jablonci nad Nisou\, Jihlavě\, Praze\, Litomyšli a Olomouci. Další termíny jsou v jednání.Rocková hudba nezmizela\, jen potřebuje prostor\, kde může znít naplno.&nbsp\;KarmaFest 2026 – JARO4.⁠ ⁠4. Havlíčkův Brod - Klub Oko11.⁠ ⁠4. Plzeň – Buena Vista18.⁠ ⁠4. Teplice – Knak25.⁠ ⁠4. České Budějovice – MC Fabrika2.5. Pardubice – Žlutý PesKarmaFest 2026 – PODZIM3.⁠ ⁠10. Jablonec nad Nisou – Stage klub10.⁠ ⁠10. Jihlava – D-Klub22.⁠ ⁠10. Praha – Futurum Music Bar23.⁠ ⁠10. Litomyšl – Music Club Kotelna (MC Kotelna)31.⁠ ⁠10. Olomouc – S-Klub
LOCATION:Plzeň
END:VEVENT
END:VCALENDAR