BEGIN:VCALENDAR
VERSION:2.0
CALSCALE:GREGORIAN
PRODID:-//MyApp//Calendar 1.0//EN
BEGIN:VEVENT
METHOD:PUBLISH
UID:60288@regionalniportaly.cz
DTSTAMP:20260424T211923Z
DTSTART;VALUE=DATE:20251207
DTEND;VALUE=DATE:20251208
SUMMARY:Mikuláš s Honzou Krejčíkem
DESCRIPTION:Adventní čas je plný kouzelné atmosféry a nezapomenutelných okamžiků pro děti i rodiče. Letos na Krašovské pro vás chystáme jedinečné mikulášské odpoledne.
LOCATION:Plzeň
END:VEVENT
END:VCALENDAR