BEGIN:VCALENDAR
VERSION:2.0
CALSCALE:GREGORIAN
PRODID:-//MyApp//Calendar 1.0//EN
BEGIN:VEVENT
METHOD:PUBLISH
UID:60287@regionalniportaly.cz
DTSTAMP:20260424T163714Z
DTSTART;VALUE=DATE:20260117
DTEND;VALUE=DATE:20260118
SUMMARY:FIRE Jumping party Plzeň
DESCRIPTION:FIRE JUMPING PARTY je žhavá show\, která rozzáří lednový večer. Tentokrát opět s naším hlavním hostem\, legendou a ikonou jumpingu – německým masterem Nailtonem Heringerem. Společně s TOP certifikovanými instruktory předvedou nezapomenutelné vystoupení na trampolínkách plné síly\, hudby a energie. Nově vás čeká také doprovodná FIRE SHOW\, která rozpálí i zimní Plzeň.
LOCATION:Plzeň
END:VEVENT
END:VCALENDAR