BEGIN:VCALENDAR
VERSION:2.0
CALSCALE:GREGORIAN
PRODID:-//MyApp//Calendar 1.0//EN
BEGIN:VEVENT
METHOD:PUBLISH
UID:60279@regionalniportaly.cz
DTSTAMP:20260425T023418Z
DTSTART;VALUE=DATE:20251226
DTEND;VALUE=DATE:20251227
SUMMARY:Česká mše vánoční - Jakub Jan Ryba
DESCRIPTION:Česká mše vánoční Jakuba Jana Ryby se stala neodmyslitelnou součástí českých Vánoc. Slyšíme ji v každém kostele\, v koncertních síních\, známe ji zpaměti\, milujeme její čistou prostotu. Vznikla v roce 1796\, a přestože její autor napsal množství vokálních i instrumentálních skladeb\, tato skladba mu zajistila nesmrtelnost. Opera DJKT uvede Rybovu Českou mši vánoční ve scénické podobě\, doplněnou ještě o další dobové skladby.
LOCATION:Plzeň
END:VEVENT
END:VCALENDAR