BEGIN:VCALENDAR
VERSION:2.0
CALSCALE:GREGORIAN
PRODID:-//MyApp//Calendar 1.0//EN
BEGIN:VEVENT
METHOD:PUBLISH
UID:60277@regionalniportaly.cz
DTSTAMP:20260424T180006Z
DTSTART;VALUE=DATE:20251213
DTEND;VALUE=DATE:20251214
SUMMARY:IRON MAIDEM Tribute band (hu) & ALCOHOLICA
DESCRIPTION:Iron Maiden a Metallica na jednom pódiu! Připravte se na večer plný nefalšovaného metalu. Plzeňská Šeříkovka se otřese v základech\, protože na její pódium vystoupí dvě špičkové tribute kapely\, které vás přenesou do zlaté éry heavy metalu.
LOCATION:Plzeň
END:VEVENT
END:VCALENDAR