BEGIN:VCALENDAR
VERSION:2.0
CALSCALE:GREGORIAN
PRODID:-//MyApp//Calendar 1.0//EN
BEGIN:VEVENT
METHOD:PUBLISH
UID:60276@regionalniportaly.cz
DTSTAMP:20260424T212015Z
DTSTART;VALUE=DATE:20251211
DTEND;VALUE=DATE:20251212
SUMMARY:Olga Lounová s kapelou
DESCRIPTION:
LOCATION:Plzeň
END:VEVENT
END:VCALENDAR