BEGIN:VCALENDAR
VERSION:2.0
CALSCALE:GREGORIAN
PRODID:-//MyApp//Calendar 1.0//EN
BEGIN:VEVENT
METHOD:PUBLISH
UID:60275@regionalniportaly.cz
DTSTAMP:20260424T180102Z
DTSTART;VALUE=DATE:20251213
DTEND;VALUE=DATE:20251214
SUMMARY:My vstáváme v bílej den…
DESCRIPTION:Přijďte se v předvánočním čase příjemně naladit s folklorním souborem písní a tanců Jiskra. V jediný večer tak ožije svět práce\, hudby i lidové zábavy – svět\, který má duši\, rytmus a radost z pohybu. Přijďte s námi prožít návrat k tradicím a lidovým zvyklostem a naladit se na nejkrásnější svátky v roce.
LOCATION:Plzeň
END:VEVENT
END:VCALENDAR