BEGIN:VCALENDAR
VERSION:2.0
CALSCALE:GREGORIAN
PRODID:-//MyApp//Calendar 1.0//EN
BEGIN:VEVENT
METHOD:PUBLISH
UID:60261@regionalniportaly.cz
DTSTAMP:20260424T180015Z
DTSTART;VALUE=DATE:20251216
DTEND;VALUE=DATE:20251217
SUMMARY:KINOTAJ + FAVORITE OBSESSION + INDIGA MUSE | ANDĚL MUSIC BAR
DESCRIPTION:Společný koncert tří kapel plných krásných lidí.KINOTAJ - Kinotaj je plzeňská kapela\, která se v dnešní podobě schází od léta 2022. V létě 2023 vydala debutové EP Kino Duna\, vyhrála festival Riversound a odehrála koncert v Berlíně. Žánrově nezařaditelná snová nálada\, která provází jejich koncerty\, naplní posluchače fantasií po zbytek večera.FAVORITE OBSESSION - Favorite Obsession je shoegaze/dreampop trio z Mostu. Jejich debutové album Bliss (2025) získalo uznání kritiků díky propojení zasněného vintage zvuku\, citové otevřenosti a společensky angažovaných témat.INDIGA MUSE - Slyšte příběh z hlubin neprobádaných lesů. Každá skladba je portálem do světa inspirovanéhoslovanskou kulturou a mytologií v kombinaci s okrajovou pop music. Alchymie temných beatů\,éterické dívčí sbory a křehkost pojící se s tíhou. Živá kapela vnáší do poslechu jedinečnou energii sjazzovými prvky.
LOCATION:Plzeň
END:VEVENT
END:VCALENDAR