BEGIN:VCALENDAR
VERSION:2.0
CALSCALE:GREGORIAN
PRODID:-//MyApp//Calendar 1.0//EN
BEGIN:VEVENT
METHOD:PUBLISH
UID:60255@regionalniportaly.cz
DTSTAMP:20260424T211822Z
DTSTART;VALUE=DATE:20260321
DTEND;VALUE=DATE:20260322
SUMMARY:Michal Šindelář Band
DESCRIPTION:Michal ŠindelářPříští rok oslaví 30 let na profi scéně. Jako bubeník byl členem legendárního Katapultu\, nebo také doprovázel Karla Kahovce\, Viktora Sodomu\, Ondřeje Hejmu\, Ivana Hlase\, folkovou legendu Jaroslava Samsona Lenka a mnoho dalších. V současné době je členem Banjo Bandu Ivana Mládka. Ve své diskografii má přes padesát desek a za sebou skoro 3000 koncertů. Písnička “Hořely\, padaly hvězdy” se v roce 2024 stala nejoblíbenější skladbou posluchačů Rádia Blaník za 25 let jeho existence\, takže na koncertu samozřejmě nemůže chybět. Stejně tak jako vzpomínka na Katapult\, kde Michal strávil po boku svého táty Jiřího “Dědka” Šindeláře krásných osm let.
LOCATION:Plzeň
END:VEVENT
END:VCALENDAR