BEGIN:VCALENDAR
VERSION:2.0
CALSCALE:GREGORIAN
PRODID:-//MyApp//Calendar 1.0//EN
BEGIN:VEVENT
METHOD:PUBLISH
UID:60202@regionalniportaly.cz
DTSTAMP:20260424T185448Z
DTSTART;VALUE=DATE:20251211
DTEND;VALUE=DATE:20251212
SUMMARY:Vintage Wine + Foggy Dude + The Onion Rings v Plzni
DESCRIPTION:Nabušený pražský folky\, punky a rolly už nebudou ke slyšení jenom v Praze - kapely Foggy Dude\, Vintage Wine a The Onion Rings je přivezou i do Anděl music baru! A to si přece nemůžete nechat ujít...
LOCATION:Plzeň
END:VEVENT
END:VCALENDAR