BEGIN:VCALENDAR
VERSION:2.0
CALSCALE:GREGORIAN
PRODID:-//MyApp//Calendar 1.0//EN
BEGIN:VEVENT
METHOD:PUBLISH
UID:60131@regionalniportaly.cz
DTSTAMP:20260424T212040Z
DTSTART;VALUE=DATE:20251212
DTEND;VALUE=DATE:20251213
SUMMARY:Mozaika vztahů - Tomáš Kvapilík
DESCRIPTION:Přednáška se koná v kinosále Měšťanské besedy v Plzni.&nbsp\;Co vztahy posiluje a co je ničí? Co v nich nevidíme\, i když to máme pod nosem? Jak porozumět začarovanému kruhu\, který se nám ve vztazích stále opakuje? A proč mnohdy nejsme schopni své vztahy změnit?Jsem psycholog\, psychoterapeut\, autor knihy Mozaika duše a tvůrce na sociálních sítích. V této speciální přednášce vám představím nové perspektivy blízkých vztahů\, jejich slepé skvrny a také nároky\, jimž čelí v moderní době. Důraz budu klást na nevědomé procesy\, které formují naše vztahy od útlého dětství. A nebude chybět ani rozbor konkrétních příkladů z terapeutické praxe.Přijďte 12. prosince&nbsp\;od 18:00 nahlédnout mozaiku vztahů a zkuste lépe porozumět skrytým aspektům svého vztahového světa.
LOCATION:Plzeň
END:VEVENT
END:VCALENDAR